BEGIN:VCALENDAR
VERSION:2.0
PRODID:-//anaudine.it - ECPv6.15.18//NONSGML v1.0//EN
CALSCALE:GREGORIAN
METHOD:PUBLISH
X-ORIGINAL-URL:https://www.anaudine.it
X-WR-CALDESC:Eventi per anaudine.it
REFRESH-INTERVAL;VALUE=DURATION:PT1H
X-Robots-Tag:noindex
X-PUBLISHED-TTL:PT1H
BEGIN:VTIMEZONE
TZID:Europe/Helsinki
BEGIN:DAYLIGHT
TZOFFSETFROM:+0200
TZOFFSETTO:+0300
TZNAME:EEST
DTSTART:20140330T010000
END:DAYLIGHT
BEGIN:STANDARD
TZOFFSETFROM:+0300
TZOFFSETTO:+0200
TZNAME:EET
DTSTART:20141026T010000
END:STANDARD
BEGIN:DAYLIGHT
TZOFFSETFROM:+0200
TZOFFSETTO:+0300
TZNAME:EEST
DTSTART:20150329T010000
END:DAYLIGHT
BEGIN:STANDARD
TZOFFSETFROM:+0300
TZOFFSETTO:+0200
TZNAME:EET
DTSTART:20151025T010000
END:STANDARD
BEGIN:DAYLIGHT
TZOFFSETFROM:+0200
TZOFFSETTO:+0300
TZNAME:EEST
DTSTART:20160327T010000
END:DAYLIGHT
BEGIN:STANDARD
TZOFFSETFROM:+0300
TZOFFSETTO:+0200
TZNAME:EET
DTSTART:20161030T010000
END:STANDARD
END:VTIMEZONE
BEGIN:VEVENT
DTSTART;TZID=Europe/Helsinki:20150314T203000
DTEND;TZID=Europe/Helsinki:20150314T203000
DTSTAMP:20260419T151500
CREATED:20150228T184439Z
LAST-MODIFIED:20160306T164722Z
UID:4535-1426365000-1426365000@www.anaudine.it
SUMMARY:La battaglia di Caporetto
DESCRIPTION:Il Gruppo di Cassacco e l’Amministrazione comunale di Cassacco\, in occasione del centenario della Grande Guerra\, organizzano una serata dal tema: La battaglia di Caporetto\, Antefatti\, Forze in campo\, Svolgimento della battaglia\, Cause della sconfitta.\nRelazionerà l’alpino Remo Colaone. \nLocandina Cassacco “La battaglia di Caporetto” \n 
URL:https://www.anaudine.it/evento/la-battaglia-di-caporetto/
LOCATION:Cassacco
CATEGORIES:CASSACCO
ATTACH;FMTTYPE=image/jpeg:https://www.anaudine.it/wp-content/uploads/2015/02/Cassacco-ricorda-1GM.jpg
END:VEVENT
END:VCALENDAR