BEGIN:VCALENDAR
VERSION:2.0
PRODID:-//anaudine.it - ECPv6.15.18//NONSGML v1.0//EN
CALSCALE:GREGORIAN
METHOD:PUBLISH
X-ORIGINAL-URL:https://www.anaudine.it
X-WR-CALDESC:Eventi per anaudine.it
REFRESH-INTERVAL;VALUE=DURATION:PT1H
X-Robots-Tag:noindex
X-PUBLISHED-TTL:PT1H
BEGIN:VTIMEZONE
TZID:Europe/Helsinki
BEGIN:DAYLIGHT
TZOFFSETFROM:+0200
TZOFFSETTO:+0300
TZNAME:EEST
DTSTART:20240331T010000
END:DAYLIGHT
BEGIN:STANDARD
TZOFFSETFROM:+0300
TZOFFSETTO:+0200
TZNAME:EET
DTSTART:20241027T010000
END:STANDARD
BEGIN:DAYLIGHT
TZOFFSETFROM:+0200
TZOFFSETTO:+0300
TZNAME:EEST
DTSTART:20250330T010000
END:DAYLIGHT
BEGIN:STANDARD
TZOFFSETFROM:+0300
TZOFFSETTO:+0200
TZNAME:EET
DTSTART:20251026T010000
END:STANDARD
BEGIN:DAYLIGHT
TZOFFSETFROM:+0200
TZOFFSETTO:+0300
TZNAME:EEST
DTSTART:20260329T010000
END:DAYLIGHT
BEGIN:STANDARD
TZOFFSETFROM:+0300
TZOFFSETTO:+0200
TZNAME:EET
DTSTART:20261025T010000
END:STANDARD
END:VTIMEZONE
BEGIN:VEVENT
DTSTART;VALUE=DATE:20250622
DTEND;VALUE=DATE:20250624
DTSTAMP:20260423T225343
CREATED:20250522T175315Z
LAST-MODIFIED:20250821T141812Z
UID:20918-1750557600-1750643999@www.anaudine.it
SUMMARY:75° di fondazione del Gruppo di Coderno
DESCRIPTION:Il Gruppo alpini di Coderno festeggia il 75° anniversario di fondazione.
URL:https://www.anaudine.it/evento/75-di-fondazione-del-gruppo-di-coderno-2/
LOCATION:Chiesetta di Santa Giuliana\, Via G. Ellero\, Coderno
CATEGORIES:CODERNO
ATTACH;FMTTYPE=image/jpeg:https://www.anaudine.it/wp-content/uploads/2025/05/75°-Coderno-1-scaled.jpg
ORGANIZER;CN="Gruppo alpini di Coderno":MAILTO:coderno.udine@ana.it
END:VEVENT
END:VCALENDAR