BEGIN:VCALENDAR
VERSION:2.0
PRODID:-//anaudine.it - ECPv6.15.18//NONSGML v1.0//EN
CALSCALE:GREGORIAN
METHOD:PUBLISH
X-WR-CALNAME:anaudine.it
X-ORIGINAL-URL:https://www.anaudine.it
X-WR-CALDESC:Eventi per anaudine.it
REFRESH-INTERVAL;VALUE=DURATION:PT1H
X-Robots-Tag:noindex
X-PUBLISHED-TTL:PT1H
BEGIN:VTIMEZONE
TZID:Europe/Paris
BEGIN:DAYLIGHT
TZOFFSETFROM:+0100
TZOFFSETTO:+0200
TZNAME:CEST
DTSTART:20240331T010000
END:DAYLIGHT
BEGIN:STANDARD
TZOFFSETFROM:+0200
TZOFFSETTO:+0100
TZNAME:CET
DTSTART:20241027T010000
END:STANDARD
BEGIN:DAYLIGHT
TZOFFSETFROM:+0100
TZOFFSETTO:+0200
TZNAME:CEST
DTSTART:20250330T010000
END:DAYLIGHT
BEGIN:STANDARD
TZOFFSETFROM:+0200
TZOFFSETTO:+0100
TZNAME:CET
DTSTART:20251026T010000
END:STANDARD
BEGIN:DAYLIGHT
TZOFFSETFROM:+0100
TZOFFSETTO:+0200
TZNAME:CEST
DTSTART:20260329T010000
END:DAYLIGHT
BEGIN:STANDARD
TZOFFSETFROM:+0200
TZOFFSETTO:+0100
TZNAME:CET
DTSTART:20261025T010000
END:STANDARD
END:VTIMEZONE
BEGIN:VTIMEZONE
TZID:Europe/Helsinki
BEGIN:DAYLIGHT
TZOFFSETFROM:+0200
TZOFFSETTO:+0300
TZNAME:EEST
DTSTART:20240331T010000
END:DAYLIGHT
BEGIN:STANDARD
TZOFFSETFROM:+0300
TZOFFSETTO:+0200
TZNAME:EET
DTSTART:20241027T010000
END:STANDARD
BEGIN:DAYLIGHT
TZOFFSETFROM:+0200
TZOFFSETTO:+0300
TZNAME:EEST
DTSTART:20250330T010000
END:DAYLIGHT
BEGIN:STANDARD
TZOFFSETFROM:+0300
TZOFFSETTO:+0200
TZNAME:EET
DTSTART:20251026T010000
END:STANDARD
BEGIN:DAYLIGHT
TZOFFSETFROM:+0200
TZOFFSETTO:+0300
TZNAME:EEST
DTSTART:20260329T010000
END:DAYLIGHT
BEGIN:STANDARD
TZOFFSETFROM:+0300
TZOFFSETTO:+0200
TZNAME:EET
DTSTART:20261025T010000
END:STANDARD
END:VTIMEZONE
BEGIN:VEVENT
DTSTART;VALUE=DATE:20251208
DTEND;VALUE=DATE:20251210
DTSTAMP:20260423T155521
CREATED:20251122T134035Z
LAST-MODIFIED:20260118T144945Z
UID:21428-1765159200-1765245599@www.anaudine.it
SUMMARY:Rassegna corale "Lauro Giavedoni" 2025
DESCRIPTION:Il Coro sezionale Ana Udine – Gruppo di Codroipo si esibirà nell’annuale rassegna corale\, che si terrà l’8\ndicembre alle ore 17.00 nella chiesa di San Valeriano in Codroipo. Parteciperà anche il “Corocastel” di Conegliano. \n \n  \n 
URL:https://www.anaudine.it/evento/rassegna-corale-lauro-giavedoni-2025/
LOCATION:Chiesa di San Valeriano\, Codroipo
CATEGORIES:CORI
ATTACH;FMTTYPE=image/jpeg:https://www.anaudine.it/wp-content/uploads/2025/11/Rassegna-corale-Codroipo-2025-scaled.jpg
END:VEVENT
BEGIN:VEVENT
DTSTART;VALUE=DATE:20251221
DTEND;VALUE=DATE:20251223
DTSTAMP:20260423T155521
CREATED:20251210T131703Z
LAST-MODIFIED:20260118T145001Z
UID:21477-1766282400-1766368799@www.anaudine.it
SUMMARY:Luoghi\, stagioni e sensazioni in Friuli
DESCRIPTION:Concerto del Coro Alpini Passons “Luoghi\, stagioni e sensazioni in Friuli”.
URL:https://www.anaudine.it/evento/luoghi-stagioni-e-sensazioni-in-friuli/
LOCATION:Auditorium Venier\, Pasian di Prato
CATEGORIES:CORI
ATTACH;FMTTYPE=image/jpeg:https://www.anaudine.it/wp-content/uploads/2025/12/Luoghi-Stagioni-e-sensazioni-in-Friuli-2025.jpg
END:VEVENT
END:VCALENDAR