BEGIN:VCALENDAR
VERSION:2.0
PRODID:-//anaudine.it - ECPv6.15.18//NONSGML v1.0//EN
CALSCALE:GREGORIAN
METHOD:PUBLISH
X-ORIGINAL-URL:https://www.anaudine.it
X-WR-CALDESC:Eventi per anaudine.it
REFRESH-INTERVAL;VALUE=DURATION:PT1H
X-Robots-Tag:noindex
X-PUBLISHED-TTL:PT1H
BEGIN:VTIMEZONE
TZID:Europe/Helsinki
BEGIN:DAYLIGHT
TZOFFSETFROM:+0200
TZOFFSETTO:+0300
TZNAME:EEST
DTSTART:20250330T010000
END:DAYLIGHT
BEGIN:STANDARD
TZOFFSETFROM:+0300
TZOFFSETTO:+0200
TZNAME:EET
DTSTART:20251026T010000
END:STANDARD
BEGIN:DAYLIGHT
TZOFFSETFROM:+0200
TZOFFSETTO:+0300
TZNAME:EEST
DTSTART:20260329T010000
END:DAYLIGHT
BEGIN:STANDARD
TZOFFSETFROM:+0300
TZOFFSETTO:+0200
TZNAME:EET
DTSTART:20261025T010000
END:STANDARD
BEGIN:DAYLIGHT
TZOFFSETFROM:+0200
TZOFFSETTO:+0300
TZNAME:EEST
DTSTART:20270328T010000
END:DAYLIGHT
BEGIN:STANDARD
TZOFFSETFROM:+0300
TZOFFSETTO:+0200
TZNAME:EET
DTSTART:20271031T010000
END:STANDARD
END:VTIMEZONE
BEGIN:VEVENT
DTSTART;VALUE=DATE:20260328
DTEND;VALUE=DATE:20260330
DTSTAMP:20260423T112441
CREATED:20260306T190040Z
LAST-MODIFIED:20260325T081401Z
UID:21768-1774663200-1774749599@www.anaudine.it
SUMMARY:Voci che ricordano\, voci che uniscono
DESCRIPTION:Concerto corale nel ricordo degli alpini che hanno prestato la loro opera durante il terremoto del Friuli.\nLe voci del Coro Brigata Alpina Julia Congedati\, del Coro della scuola primaria di Moruzzo e del Coro Stelutis Alpinis diventano memoria\, comunità e identità. \nAttenzione\, la sede del concerto è stata spostata nella chiesa di S.Maria Assunta a Martignacco. \n \n 
URL:https://www.anaudine.it/evento/voci-che-ricordano-voci-che-uniscono/
LOCATION:Chiesa di S.Maria Assunta\, Martignacco
CATEGORIES:ALNICCO,CORI
ATTACH;FMTTYPE=image/jpeg:https://www.anaudine.it/wp-content/uploads/2026/03/Voci-che-ricordano.jpeg
END:VEVENT
END:VCALENDAR