BEGIN:VCALENDAR
VERSION:2.0
PRODID:-//anaudine.it - ECPv6.15.18//NONSGML v1.0//EN
CALSCALE:GREGORIAN
METHOD:PUBLISH
X-WR-CALNAME:anaudine.it
X-ORIGINAL-URL:https://www.anaudine.it
X-WR-CALDESC:Eventi per anaudine.it
REFRESH-INTERVAL;VALUE=DURATION:PT1H
X-Robots-Tag:noindex
X-PUBLISHED-TTL:PT1H
BEGIN:VTIMEZONE
TZID:Europe/Paris
BEGIN:DAYLIGHT
TZOFFSETFROM:+0100
TZOFFSETTO:+0200
TZNAME:CEST
DTSTART:20150329T010000
END:DAYLIGHT
BEGIN:STANDARD
TZOFFSETFROM:+0200
TZOFFSETTO:+0100
TZNAME:CET
DTSTART:20151025T010000
END:STANDARD
BEGIN:DAYLIGHT
TZOFFSETFROM:+0100
TZOFFSETTO:+0200
TZNAME:CEST
DTSTART:20160327T010000
END:DAYLIGHT
BEGIN:STANDARD
TZOFFSETFROM:+0200
TZOFFSETTO:+0100
TZNAME:CET
DTSTART:20161030T010000
END:STANDARD
BEGIN:DAYLIGHT
TZOFFSETFROM:+0100
TZOFFSETTO:+0200
TZNAME:CEST
DTSTART:20170326T010000
END:DAYLIGHT
BEGIN:STANDARD
TZOFFSETFROM:+0200
TZOFFSETTO:+0100
TZNAME:CET
DTSTART:20171029T010000
END:STANDARD
BEGIN:DAYLIGHT
TZOFFSETFROM:+0100
TZOFFSETTO:+0200
TZNAME:CEST
DTSTART:20180325T010000
END:DAYLIGHT
BEGIN:STANDARD
TZOFFSETFROM:+0200
TZOFFSETTO:+0100
TZNAME:CET
DTSTART:20181028T010000
END:STANDARD
BEGIN:DAYLIGHT
TZOFFSETFROM:+0100
TZOFFSETTO:+0200
TZNAME:CEST
DTSTART:20190331T010000
END:DAYLIGHT
BEGIN:STANDARD
TZOFFSETFROM:+0200
TZOFFSETTO:+0100
TZNAME:CET
DTSTART:20191027T010000
END:STANDARD
BEGIN:DAYLIGHT
TZOFFSETFROM:+0100
TZOFFSETTO:+0200
TZNAME:CEST
DTSTART:20200329T010000
END:DAYLIGHT
BEGIN:STANDARD
TZOFFSETFROM:+0200
TZOFFSETTO:+0100
TZNAME:CET
DTSTART:20201025T010000
END:STANDARD
BEGIN:DAYLIGHT
TZOFFSETFROM:+0100
TZOFFSETTO:+0200
TZNAME:CEST
DTSTART:20210328T010000
END:DAYLIGHT
BEGIN:STANDARD
TZOFFSETFROM:+0200
TZOFFSETTO:+0100
TZNAME:CET
DTSTART:20211031T010000
END:STANDARD
BEGIN:DAYLIGHT
TZOFFSETFROM:+0100
TZOFFSETTO:+0200
TZNAME:CEST
DTSTART:20220327T010000
END:DAYLIGHT
BEGIN:STANDARD
TZOFFSETFROM:+0200
TZOFFSETTO:+0100
TZNAME:CET
DTSTART:20221030T010000
END:STANDARD
BEGIN:DAYLIGHT
TZOFFSETFROM:+0100
TZOFFSETTO:+0200
TZNAME:CEST
DTSTART:20230326T010000
END:DAYLIGHT
BEGIN:STANDARD
TZOFFSETFROM:+0200
TZOFFSETTO:+0100
TZNAME:CET
DTSTART:20231029T010000
END:STANDARD
BEGIN:DAYLIGHT
TZOFFSETFROM:+0100
TZOFFSETTO:+0200
TZNAME:CEST
DTSTART:20240331T010000
END:DAYLIGHT
BEGIN:STANDARD
TZOFFSETFROM:+0200
TZOFFSETTO:+0100
TZNAME:CET
DTSTART:20241027T010000
END:STANDARD
BEGIN:DAYLIGHT
TZOFFSETFROM:+0100
TZOFFSETTO:+0200
TZNAME:CEST
DTSTART:20250330T010000
END:DAYLIGHT
BEGIN:STANDARD
TZOFFSETFROM:+0200
TZOFFSETTO:+0100
TZNAME:CET
DTSTART:20251026T010000
END:STANDARD
BEGIN:DAYLIGHT
TZOFFSETFROM:+0100
TZOFFSETTO:+0200
TZNAME:CEST
DTSTART:20260329T010000
END:DAYLIGHT
BEGIN:STANDARD
TZOFFSETFROM:+0200
TZOFFSETTO:+0100
TZNAME:CET
DTSTART:20261025T010000
END:STANDARD
END:VTIMEZONE
BEGIN:VTIMEZONE
TZID:Europe/Helsinki
BEGIN:DAYLIGHT
TZOFFSETFROM:+0200
TZOFFSETTO:+0300
TZNAME:EEST
DTSTART:20140330T010000
END:DAYLIGHT
BEGIN:STANDARD
TZOFFSETFROM:+0300
TZOFFSETTO:+0200
TZNAME:EET
DTSTART:20141026T010000
END:STANDARD
BEGIN:DAYLIGHT
TZOFFSETFROM:+0200
TZOFFSETTO:+0300
TZNAME:EEST
DTSTART:20150329T010000
END:DAYLIGHT
BEGIN:STANDARD
TZOFFSETFROM:+0300
TZOFFSETTO:+0200
TZNAME:EET
DTSTART:20151025T010000
END:STANDARD
BEGIN:DAYLIGHT
TZOFFSETFROM:+0200
TZOFFSETTO:+0300
TZNAME:EEST
DTSTART:20160327T010000
END:DAYLIGHT
BEGIN:STANDARD
TZOFFSETFROM:+0300
TZOFFSETTO:+0200
TZNAME:EET
DTSTART:20161030T010000
END:STANDARD
BEGIN:DAYLIGHT
TZOFFSETFROM:+0200
TZOFFSETTO:+0300
TZNAME:EEST
DTSTART:20170326T010000
END:DAYLIGHT
BEGIN:STANDARD
TZOFFSETFROM:+0300
TZOFFSETTO:+0200
TZNAME:EET
DTSTART:20171029T010000
END:STANDARD
END:VTIMEZONE
BEGIN:VEVENT
DTSTART;VALUE=DATE:20250719
DTEND;VALUE=DATE:20250722
DTSTAMP:20260420T152252
CREATED:20250708T071048Z
LAST-MODIFIED:20250821T141947Z
UID:21051-1752890400-1753063199@www.anaudine.it
SUMMARY:Festa Alpina a Moggio 2025
DESCRIPTION:Il Gruppo alpini di Moggio Udinese organizza la tradizionale “Festa alpina”. \n \n  \n  \n 
URL:https://www.anaudine.it/evento/festa-alpina-2025/
LOCATION:Moggio Udinese\, Piazzale G.Nais\, Moggio Udinese
CATEGORIES:MOGGIO UDINESE
ATTACH;FMTTYPE=image/jpeg:https://www.anaudine.it/wp-content/uploads/2025/07/Festa-Alpina-Moggio-2025.jpg
END:VEVENT
BEGIN:VEVENT
DTSTART;VALUE=DATE:20240720
DTEND;VALUE=DATE:20240723
DTSTAMP:20260420T152252
CREATED:20240705T195350Z
LAST-MODIFIED:20240828T152444Z
UID:19545-1721440800-1721613599@www.anaudine.it
SUMMARY:Festa Alpina 2024
DESCRIPTION:Il Gruppo alpini di Moggio Udinese organizza la tradizionale “Festa alpina”. \n  \n \n  \n 
URL:https://www.anaudine.it/evento/festa-alpina-2024/
LOCATION:Moggio Udinese\, Piazzale G.Nais\, Moggio Udinese
CATEGORIES:MOGGIO UDINESE
ATTACH;FMTTYPE=image/jpeg:https://www.anaudine.it/wp-content/uploads/2024/07/Festa-alpina-Moggio-2024.jpg
END:VEVENT
BEGIN:VEVENT
DTSTART;VALUE=DATE:20230722
DTEND;VALUE=DATE:20230725
DTSTAMP:20260420T152252
CREATED:20230614T151740Z
LAST-MODIFIED:20230731T183957Z
UID:18213-1689991200-1690163999@www.anaudine.it
SUMMARY:Festa Alpina
DESCRIPTION:Il Gruppo alpini di Moggio Udinese organizza la tradizionale “Festa alpina”. \n  \n \n  \n 
URL:https://www.anaudine.it/evento/festa-alpina-moggio-2-3/
LOCATION:Moggio Udinese\, Piazzale G.Nais\, Moggio Udinese
CATEGORIES:MOGGIO UDINESE
ATTACH;FMTTYPE=image/jpeg:https://www.anaudine.it/wp-content/uploads/2016/07/sede-Moggio-Udinese_1.jpg
END:VEVENT
BEGIN:VEVENT
DTSTART;VALUE=DATE:20220723
DTEND;VALUE=DATE:20220726
DTSTAMP:20260420T152252
CREATED:20220709T102250Z
LAST-MODIFIED:20220802T165720Z
UID:17113-1658541600-1658714399@www.anaudine.it
SUMMARY:90° di fondazione Gruppo di Moggio Udinese
DESCRIPTION:Il Gruppo di Moggio Udinese organizza il 23 e 34 luglio la FESTA ALPINA in occasione del 90° di fondazione del Gruppo. \n 
URL:https://www.anaudine.it/evento/90-di-fondazione-gruppo-di-moggio-udinese/
LOCATION:Moggio Udinese\, Moggio Udinese
CATEGORIES:MOGGIO UDINESE
ATTACH;FMTTYPE=image/jpeg:https://www.anaudine.it/wp-content/uploads/2016/07/sede-Moggio-Udinese_1.jpg
END:VEVENT
BEGIN:VEVENT
DTSTART;VALUE=DATE:20200719
DTEND;VALUE=DATE:20200721
DTSTAMP:20260420T152252
CREATED:20200106T173140Z
LAST-MODIFIED:20200616T200925Z
UID:14939-1595124000-1595210399@www.anaudine.it
SUMMARY:Festa Alpina - ANNULLATA
DESCRIPTION:La festa è stata annullata. \nIl Gruppo di Moggio Udinese organizza la tradizionale “Festa alpina”. \nFesta alpina Moggio 2020 (locandina) \n  \n 
URL:https://www.anaudine.it/evento/festa-alpina-moggio-2-2/
LOCATION:Moggio Udinese\, Piazzale G.Nais\, Moggio Udinese
CATEGORIES:MOGGIO UDINESE
ATTACH;FMTTYPE=image/jpeg:https://www.anaudine.it/wp-content/uploads/2016/07/sede-Moggio-Udinese_1.jpg
END:VEVENT
BEGIN:VEVENT
DTSTART;VALUE=DATE:20190721
DTEND;VALUE=DATE:20190725
DTSTAMP:20260420T152252
CREATED:20190225T194841Z
LAST-MODIFIED:20190724T114447Z
UID:13468-1563674400-1563933599@www.anaudine.it
SUMMARY:Festa Alpina
DESCRIPTION:Il Gruppo di Moggio Udinese organizza la tradizionale “Festa alpina”. \nFesta alpina Moggio 2019 (locandina) \n 
URL:https://www.anaudine.it/evento/festa-alpina-moggio-2/
LOCATION:Moggio Udinese\, Piazzale G.Nais\, Moggio Udinese
CATEGORIES:MOGGIO UDINESE
ATTACH;FMTTYPE=image/jpeg:https://www.anaudine.it/wp-content/uploads/2016/07/sede-Moggio-Udinese_1.jpg
END:VEVENT
BEGIN:VEVENT
DTSTART;VALUE=DATE:20180715
DTEND;VALUE=DATE:20180719
DTSTAMP:20260420T152252
CREATED:20180120T160601Z
LAST-MODIFIED:20180730T172654Z
UID:11853-1531620000-1531879199@www.anaudine.it
SUMMARY:Festa Alpina
DESCRIPTION:Il Gruppo di Moggio Udinese organizza la tradizionale “Festa alpina”. \nFesta alpina Moggio 2018 (locandina)
URL:https://www.anaudine.it/evento/festa-alpina-moggio/
LOCATION:Moggio Udinese\, Piazzale G.Nais\, Moggio Udinese
CATEGORIES:MOGGIO UDINESE
ATTACH;FMTTYPE=image/jpeg:https://www.anaudine.it/wp-content/uploads/2016/07/sede-Moggio-Udinese_1.jpg
END:VEVENT
BEGIN:VEVENT
DTSTART;VALUE=DATE:20170723
DTEND;VALUE=DATE:20170727
DTSTAMP:20260420T152252
CREATED:20170103T212103Z
LAST-MODIFIED:20170731T200348Z
UID:9206-1500775200-1501034399@www.anaudine.it
SUMMARY:Festa del Gruppo
DESCRIPTION:Il Gruppo di Moggio Udinese organizza la tradizionale “Due giornate con gli alpini”. \nFesta alpina Moggio 2017 (programma)
URL:https://www.anaudine.it/evento/festa-del-gruppo-4-2/
LOCATION:Moggio Udinese\, Piazzale G.Nais\, Moggio Udinese
CATEGORIES:MOGGIO UDINESE
ATTACH;FMTTYPE=image/jpeg:https://www.anaudine.it/wp-content/uploads/2016/07/sede-Moggio-Udinese_1.jpg
END:VEVENT
BEGIN:VEVENT
DTSTART;VALUE=DATE:20160722
DTEND;VALUE=DATE:20160726
DTSTAMP:20260420T152252
CREATED:20160719T201556Z
LAST-MODIFIED:20160912T181636Z
UID:8268-1469152800-1469411999@www.anaudine.it
SUMMARY:Festa del Gruppo
DESCRIPTION:Il Gruppo di Moggio Udinese organizza la tradizionale “Tre giornate con gli alpini”. \nFesta alpina Moggio 2016 (programma)
URL:https://www.anaudine.it/evento/festa-del-gruppo-4/
LOCATION:Moggio Udinese\, Piazzale G.Nais\, Moggio Udinese
CATEGORIES:MOGGIO UDINESE
ATTACH;FMTTYPE=image/jpeg:https://www.anaudine.it/wp-content/uploads/2016/07/sede-Moggio-Udinese_1.jpg
END:VEVENT
BEGIN:VEVENT
DTSTART;VALUE=DATE:20160626
DTEND;VALUE=DATE:20160628
DTSTAMP:20260420T152252
CREATED:20151028T210928Z
LAST-MODIFIED:20151028T210928Z
UID:6733-1466906400-1466992799@www.anaudine.it
SUMMARY:Festa del Gruppo
DESCRIPTION:Il Gruppo di Moggio Udinese organizza la tradizionale “Festa del Gruppo”.
URL:https://www.anaudine.it/evento/festa-del-gruppo-3/
LOCATION:Moggio Udinese\, Moggio Udinese
CATEGORIES:MOGGIO UDINESE
ATTACH;FMTTYPE=image/jpeg:https://www.anaudine.it/wp-content/uploads/2015/10/Festa-alpina-generico.jpg
END:VEVENT
BEGIN:VEVENT
DTSTART;VALUE=DATE:20151003
DTEND;VALUE=DATE:20151006
DTSTAMP:20260420T152252
CREATED:20150806T193855Z
LAST-MODIFIED:20160302T202519Z
UID:6218-1443837600-1444010399@www.anaudine.it
SUMMARY:Raduno alpini
DESCRIPTION:Il Gruppo di Moggio Udinese organizza un incontro con tutti gli alpini e in special modo con quelli che hanno fatto il servizio militare nella caserma “Tinivella”. \nRaduno alpini moggio 2015
URL:https://www.anaudine.it/evento/raduno-alpini/
LOCATION:Luogo Senza Nome\, Moggio Udinese
CATEGORIES:MOGGIO UDINESE
ATTACH;FMTTYPE=image/jpeg:https://www.anaudine.it/wp-content/uploads/2015/08/sede-Moggio-Udinese.jpg
END:VEVENT
BEGIN:VEVENT
DTSTART;VALUE=DATE:20150719
DTEND;VALUE=DATE:20150721
DTSTAMP:20260420T152252
CREATED:20150228T160508Z
LAST-MODIFIED:20150228T160508Z
UID:4502-1437271200-1437357599@www.anaudine.it
SUMMARY:Festa del Gruppo
DESCRIPTION:Il Gruppo di Moggio Udinese organizza la tradizionale “Festa del Gruppo”.
URL:https://www.anaudine.it/evento/festa-del-gruppo/
LOCATION:Moggio Udinese\, Piazzale G.Nais\, Moggio Udinese
CATEGORIES:MOGGIO UDINESE
ATTACH;FMTTYPE=image/jpeg:https://www.anaudine.it/wp-content/uploads/2015/02/immagine-eventi-standard-e1446065905540.jpg
END:VEVENT
END:VCALENDAR