BEGIN:VCALENDAR
VERSION:2.0
PRODID:-//anaudine.it - ECPv6.15.18//NONSGML v1.0//EN
CALSCALE:GREGORIAN
METHOD:PUBLISH
X-WR-CALNAME:anaudine.it
X-ORIGINAL-URL:https://www.anaudine.it
X-WR-CALDESC:Eventi per anaudine.it
REFRESH-INTERVAL;VALUE=DURATION:PT1H
X-Robots-Tag:noindex
X-PUBLISHED-TTL:PT1H
BEGIN:VTIMEZONE
TZID:Europe/Paris
BEGIN:DAYLIGHT
TZOFFSETFROM:+0100
TZOFFSETTO:+0200
TZNAME:CEST
DTSTART:20160327T010000
END:DAYLIGHT
BEGIN:STANDARD
TZOFFSETFROM:+0200
TZOFFSETTO:+0100
TZNAME:CET
DTSTART:20161030T010000
END:STANDARD
BEGIN:DAYLIGHT
TZOFFSETFROM:+0100
TZOFFSETTO:+0200
TZNAME:CEST
DTSTART:20170326T010000
END:DAYLIGHT
BEGIN:STANDARD
TZOFFSETFROM:+0200
TZOFFSETTO:+0100
TZNAME:CET
DTSTART:20171029T010000
END:STANDARD
BEGIN:DAYLIGHT
TZOFFSETFROM:+0100
TZOFFSETTO:+0200
TZNAME:CEST
DTSTART:20180325T010000
END:DAYLIGHT
BEGIN:STANDARD
TZOFFSETFROM:+0200
TZOFFSETTO:+0100
TZNAME:CET
DTSTART:20181028T010000
END:STANDARD
BEGIN:DAYLIGHT
TZOFFSETFROM:+0100
TZOFFSETTO:+0200
TZNAME:CEST
DTSTART:20190331T010000
END:DAYLIGHT
BEGIN:STANDARD
TZOFFSETFROM:+0200
TZOFFSETTO:+0100
TZNAME:CET
DTSTART:20191027T010000
END:STANDARD
BEGIN:DAYLIGHT
TZOFFSETFROM:+0100
TZOFFSETTO:+0200
TZNAME:CEST
DTSTART:20200329T010000
END:DAYLIGHT
BEGIN:STANDARD
TZOFFSETFROM:+0200
TZOFFSETTO:+0100
TZNAME:CET
DTSTART:20201025T010000
END:STANDARD
BEGIN:DAYLIGHT
TZOFFSETFROM:+0100
TZOFFSETTO:+0200
TZNAME:CEST
DTSTART:20210328T010000
END:DAYLIGHT
BEGIN:STANDARD
TZOFFSETFROM:+0200
TZOFFSETTO:+0100
TZNAME:CET
DTSTART:20211031T010000
END:STANDARD
BEGIN:DAYLIGHT
TZOFFSETFROM:+0100
TZOFFSETTO:+0200
TZNAME:CEST
DTSTART:20220327T010000
END:DAYLIGHT
BEGIN:STANDARD
TZOFFSETFROM:+0200
TZOFFSETTO:+0100
TZNAME:CET
DTSTART:20221030T010000
END:STANDARD
BEGIN:DAYLIGHT
TZOFFSETFROM:+0100
TZOFFSETTO:+0200
TZNAME:CEST
DTSTART:20230326T010000
END:DAYLIGHT
BEGIN:STANDARD
TZOFFSETFROM:+0200
TZOFFSETTO:+0100
TZNAME:CET
DTSTART:20231029T010000
END:STANDARD
BEGIN:DAYLIGHT
TZOFFSETFROM:+0100
TZOFFSETTO:+0200
TZNAME:CEST
DTSTART:20240331T010000
END:DAYLIGHT
BEGIN:STANDARD
TZOFFSETFROM:+0200
TZOFFSETTO:+0100
TZNAME:CET
DTSTART:20241027T010000
END:STANDARD
BEGIN:DAYLIGHT
TZOFFSETFROM:+0100
TZOFFSETTO:+0200
TZNAME:CEST
DTSTART:20250330T010000
END:DAYLIGHT
BEGIN:STANDARD
TZOFFSETFROM:+0200
TZOFFSETTO:+0100
TZNAME:CET
DTSTART:20251026T010000
END:STANDARD
BEGIN:DAYLIGHT
TZOFFSETFROM:+0100
TZOFFSETTO:+0200
TZNAME:CEST
DTSTART:20260329T010000
END:DAYLIGHT
BEGIN:STANDARD
TZOFFSETFROM:+0200
TZOFFSETTO:+0100
TZNAME:CET
DTSTART:20261025T010000
END:STANDARD
END:VTIMEZONE
BEGIN:VEVENT
DTSTART;VALUE=DATE:20251122
DTEND;VALUE=DATE:20251124
DTSTAMP:20260423T163107
CREATED:20251110T122752Z
LAST-MODIFIED:20260118T144903Z
UID:21406-1763776800-1763863199@www.anaudine.it
SUMMARY:18ª Cjantis in Branc
DESCRIPTION:18ª Rassegna corale di canti alpini e della tradizione friulana organizzata dal Gruppo alpini di Branco.\nSpettacolo di beneficenza a favore dell’associazione Mu.Nu.S. di Tavagnacco. \n  \n \n  \n  \n 
URL:https://www.anaudine.it/evento/18a-cjantis-in-branc/
LOCATION:Chiesa San Francesco\, Via Roma\, Branco
CATEGORIES:BRANCO,CORI,TAVAGNACCO
ATTACH;FMTTYPE=image/jpeg:https://www.anaudine.it/wp-content/uploads/2025/11/18°-Ciantis-in-Branc.jpg
END:VEVENT
BEGIN:VEVENT
DTSTART;VALUE=DATE:20241123
DTEND;VALUE=DATE:20241125
DTSTAMP:20260423T163107
CREATED:20241107T141027Z
LAST-MODIFIED:20250122T164816Z
UID:20068-1732327200-1732413599@www.anaudine.it
SUMMARY:17ª Cjantis in Branc
DESCRIPTION:17ª Rassegna corale di canti alpini e della tradizione friulana organizzata dal Gruppo alpini di Branco.\nSpettacolo di beneficenza a favore dell’associazione Mu.Nu.S. di Tavagnacco. \n  \n \n  \n  \n 
URL:https://www.anaudine.it/evento/17a-cjantis-in-branc/
LOCATION:Chiesa San Francesco\, Via Roma\, Branco
CATEGORIES:BRANCO,CORI,TAVAGNACCO
ATTACH;FMTTYPE=image/jpeg:https://www.anaudine.it/wp-content/uploads/2024/11/17°-Ciantis-in-Branc.jpg
END:VEVENT
BEGIN:VEVENT
DTSTART;VALUE=DATE:20231202
DTEND;VALUE=DATE:20231204
DTSTAMP:20260423T163107
CREATED:20231127T150820Z
LAST-MODIFIED:20240201T124434Z
UID:18703-1701482400-1701568799@www.anaudine.it
SUMMARY:16ª Cjantis in Branc
DESCRIPTION:16ª Rassegna corale di canti alpini e della tradizione friulana organizzata dal Gruppo alpini di Branco.\nSpettacolo di beneficenza a favore dell’associazione Mu.Nu.S. di Tavagnacco. \n  \n \n  \n  \n 
URL:https://www.anaudine.it/evento/16a-cjantis-in-branc/
LOCATION:Chiesa San Francesco\, Via Roma\, Branco
CATEGORIES:BRANCO,CORI,TAVAGNACCO
ATTACH;FMTTYPE=image/jpeg:https://www.anaudine.it/wp-content/uploads/2023/11/16°-Cjantis-in-Branc.jpg
END:VEVENT
BEGIN:VEVENT
DTSTART;VALUE=DATE:20221126
DTEND;VALUE=DATE:20221128
DTSTAMP:20260423T163107
CREATED:20221114T212637Z
LAST-MODIFIED:20230219T192711Z
UID:17487-1669428000-1669514399@www.anaudine.it
SUMMARY:15ª Cjantis in Branc
DESCRIPTION:15ª Rassegna corale di canti alpini e della tradizione friulana organizzata dal Gruppo alpini di Branco.\nSpettacolo di beneficenza a favore dell’associazione Mu.Nu.S. di Tavagnacco. \n \n  \n 
URL:https://www.anaudine.it/evento/15a-cjantis-in-branc/
LOCATION:Chiesa San Francesco\, Via Roma\, Branco
CATEGORIES:BRANCO,CORI,TAVAGNACCO
ATTACH;FMTTYPE=image/jpeg:https://www.anaudine.it/wp-content/uploads/2022/11/15^-Cjantis-in-Branc-e1668461577327.jpg
END:VEVENT
BEGIN:VEVENT
DTSTART;VALUE=DATE:20191123
DTEND;VALUE=DATE:20191125
DTSTAMP:20260423T163107
CREATED:20191029T211332Z
LAST-MODIFIED:20191213T111903Z
UID:14759-1574474400-1574560799@www.anaudine.it
SUMMARY:14ª Cjantis in Branc
DESCRIPTION:Si terrà sabato 23 novembre alle ore 20:30 la 14ª Rassegna corale di canti alpini e della tradizione friulana organizzata dal Gruppo alpini di Branco. Si esibirà il coro “Alpini Passons”. In occasione del 50° di fondazione del Gruppo sarà presentato lo spettacolo DI QUI NON SI PASSA di Luca Piana. \n14ª Cjantis in Branc (locandina)
URL:https://www.anaudine.it/evento/14a-cjantis-in-branc/
LOCATION:Chiesa San Francesco\, Via Roma\, Branco
CATEGORIES:BRANCO,CORI,TAVAGNACCO
ATTACH;FMTTYPE=image/jpeg:https://www.anaudine.it/wp-content/uploads/2019/10/14^-Cjantis-in-Branc.jpg
END:VEVENT
BEGIN:VEVENT
DTSTART;VALUE=DATE:20181124
DTEND;VALUE=DATE:20181125
DTSTAMP:20260423T163107
CREATED:20181024T200754Z
LAST-MODIFIED:20181216T181231Z
UID:13074-1543024800-1543103999@www.anaudine.it
SUMMARY:13ª Cjantis in Branc
DESCRIPTION:Si terrà sabato 24 novembre alle ore 20.30 la 13ª Rassegna corale di canti alpini e della tradizione friulana organizzata dal Gruppo alpini di Branco. Per l’edizione del centenario si esibiranno Il coro “Chei dai Sparcs” di Tavagnacco ed il coro “Renzo Basaldella” del CAI di Cividale del Friuli. \n13^ Cjantis in Branc (locandina)
URL:https://www.anaudine.it/evento/13a-cjantis-in-branc/
LOCATION:Chiesa San Francesco\, Via Roma\, Branco
CATEGORIES:BRANCO,CORI,TAVAGNACCO
ATTACH;FMTTYPE=image/jpeg:https://www.anaudine.it/wp-content/uploads/2018/10/13^-Cjantis-in-Branc.jpg
END:VEVENT
BEGIN:VEVENT
DTSTART;VALUE=DATE:20171125
DTEND;VALUE=DATE:20171126
DTSTAMP:20260423T163107
CREATED:20171010T193035Z
LAST-MODIFIED:20171220T215033Z
UID:11407-1511575200-1511654399@www.anaudine.it
SUMMARY:12ª Cjantis in Branc
DESCRIPTION:Nel programma delle “Quattro serate con gli alpini” il Gruppo alpini di Branco presenta la rassegna corale “12ª edizione di Cjantis in Branc”. \n4 serate con gli alpini (locandina)
URL:https://www.anaudine.it/evento/12a-cjantis-in-branc/
LOCATION:Chiesa San Francesco\, Via Roma\, Branco
CATEGORIES:BRANCO,CORI,TAVAGNACCO
ATTACH;FMTTYPE=image/jpeg:https://www.anaudine.it/wp-content/uploads/2017/10/4-serate-con-gli-alpini.jpg
END:VEVENT
BEGIN:VEVENT
DTSTART;VALUE=DATE:20171110
DTEND;VALUE=DATE:20171111
DTSTAMP:20260423T163107
CREATED:20171010T192557Z
LAST-MODIFIED:20171120T165110Z
UID:11401-1510279200-1510358399@www.anaudine.it
SUMMARY:Terremoto io non rischio
DESCRIPTION:Nel programma delle “Quattro serate con gli alpini” il Gruppo alpini di Feletto Umberto presenta “Terremoto io non rischio. Serata con la Protezione Civile”. \n4 serate con gli alpini (locandina)
URL:https://www.anaudine.it/evento/terremoto-io-non-rischio-2/
LOCATION:Sala E.Feruglio\, Feletto Umberto
CATEGORIES:FELETTO UMBERTO,TAVAGNACCO
ATTACH;FMTTYPE=image/jpeg:https://www.anaudine.it/wp-content/uploads/2017/10/4-serate-con-gli-alpini.jpg
END:VEVENT
BEGIN:VEVENT
DTSTART;VALUE=DATE:20171027
DTEND;VALUE=DATE:20171028
DTSTAMP:20260423T163107
CREATED:20171010T191801Z
LAST-MODIFIED:20171031T204002Z
UID:11395-1509069600-1509148799@www.anaudine.it
SUMMARY:Caporetto 1917-Chei che son restâs
DESCRIPTION:Nel programma delle “Quattro serate con gli alpini” il Gruppo alpini di Tavagnacco presenta “Caporetto 1917-Chei che son restâs”. \n4 serate con gli alpini (locandina)
URL:https://www.anaudine.it/evento/caporetto-1917-chei-che-son-restas/
LOCATION:Centro Civico\, Tavagnacco
CATEGORIES:GRANDE GUERRA,TAVAGNACCO
ATTACH;FMTTYPE=image/jpeg:https://www.anaudine.it/wp-content/uploads/2017/10/4-serate-con-gli-alpini.jpg
END:VEVENT
BEGIN:VEVENT
DTSTART;VALUE=DATE:20170610
DTEND;VALUE=DATE:20170611
DTSTAMP:20260423T163107
CREATED:20170604T093805Z
LAST-MODIFIED:20170619T114455Z
UID:10821-1497060000-1497139199@www.anaudine.it
SUMMARY:Consegna piastrino di riconoscimento
DESCRIPTION:Sabato 10 giugno in municipio a Tavagnacco verrà consegnato ai famigliari il piastrino di riconoscimento appartenuto all’alpino Amato Linto Del Fabbro\, nato Tricesimo 5 ottobre 1922 e caduto a “Quota Cividale” il 4 gennaio 1943.\nLa cerimonia di consegna avrà inizio alle ore 10\,30.
URL:https://www.anaudine.it/evento/consegna-piastrino-di-riconoscimento/
LOCATION:Municipio di Tavagnacco\, Tavagnacco
CATEGORIES:TAVAGNACCO
ATTACH;FMTTYPE=image/jpeg:https://www.anaudine.it/wp-content/uploads/2017/06/Alpini-in_ritirata.jpg
END:VEVENT
END:VCALENDAR